Workbook

Sheet 入力シート
C2: ★入力シート（設備整備・実績報告書作成用）
C3: 【セルの色内訳】
C4: 水色セル：要入力部分 | D4: 黄色セル：自動入力部分
C6: 【作成手順】 ① 県からの交付決定通知書と、交付申請時に提出したExcel様式を用意 ② このシートの水色セル部分を入力 ③ 「様式第１-２号」「様式第１-２号別紙」のシートを開き、水色セル部分を入力 ④ その他のシートを全て確認し、黄色セルに数値が反映されているか確認
B8: (１)申請者情報 ※ここに記載した内容は、実績報告の表紙にそのまま反映されます。
C9: 報告日 | E9: 令和 年 月 日
C10: 住所
C11: 申請者名称
C12: 代表者役職
C13: 代表者氏名
C15: 交付決定日 | E15: 令和 年 月 日付
C16: 交付決定番号 | E16: 第２０２６００００００００号
C17: 台数・金額の実績について、交付申請時からの変更があるか | G17: プルダウンから選択
C18: 県からの補助金受入状況
B21: （２）協定締結医療機関設備整備事業 交付申請額 | F21: ▼申請時に提出したエクセルの該当部分をコピー・貼り付けしてください。 | K21: （単位：円）
D22: 数量 | E22: 規格 （型式） | F22: 対象経費実支出額 （単価） | G22: 寄付金その他の収入額 | H22: 対象経費支出予定額（合計） | I22: 基準額 （補助額上限） | J22: 選定額 （各対象経費と基準額を比べて少ない方） | K22: 補助所要額 （選定額を千円未満 切捨て）
C23: 簡易陰圧装置 | H23: =D23*F23 -> 0 | I23: =D23*4320000 -> 0 | J23: =MIN(H23,I23) -> 0 | K23: =ROUNDDOWN(J23+J24,-3) -> 0
H24: =D24*F24 -> 0 | I24: =D24*4320000 -> 0 | J24: =MIN(H24,I24) -> 0
C25: 検査機器（PCR検査装置、等温遺伝子増幅装置） | H25: =D25*F25 -> 0 | I25: =D25*9350000 -> 0 | J25: =MIN(H25,I25) -> 0 | K25: =ROUNDDOWN(J25+J26,-3) -> 0
H26: =D26*F26 -> 0 | I26: =D26*9350000 -> 0 | J26: =MIN(H26,I26) -> 0
C27: HEPAフィルター付き空気清浄機 | H27: =D27*F27 -> 0 | I27: =IF(D27+D28>0,905000,0) -> 0 | J27: =MIN(H27+H28,I27) -> 0 | K27: =ROUNDDOWN(J27,-3) -> 0
H28: =D28*F28 -> 0
C29: 簡易ベッド | H29: =D29*F29 -> 0 | I29: =D29*51400 -> 0 | J29: =MIN(H29,I29) -> 0 | K29: =ROUNDDOWN(J29+J30,-3) -> 0
H30: =D30*F30 -> 0 | I30: =D30*51400 -> 0 | J30: =MIN(H30,I30) -> 0
J31: =SUM(J23:J30) -> 0 | K31: =SUM(K23:K30) -> 0
J32: 算定基準額 （実績） | K32: 交付決定額 （実績）
B33: （３）協定締結医療機関設備整備事業 実績報告額 | F33: ▼交付申請時から変更がない場合は、（２）と同じ内容を入力してください。 | K33: （単位：円）
D34: 数量 | E34: 規格 （型式） | F34: 対象経費実支出額 （単価） | G34: 寄付金その他の収入額 | H34: 対象経費支出予定額（合計） | I34: 基準額 （補助額上限） | J34: 選定額 （各対象経費と基準額を比べて少ない方） | K34: 補助所要額 （選定額を千円未満 切捨て）
C35: 簡易陰圧装置 | H35: =D35*F35 -> 0 | I35: =D35*4320000 -> 0 | J35: =MIN(H35,I35) -> 0 | K35: =ROUNDDOWN(J35+J36,-3) -> 0
H36: =D36*F36 -> 0 | I36: =D36*4320000 -> 0 | J36: =MIN(H36,I36) -> 0
C37: 検査機器（PCR検査装置、等温遺伝子増幅装置） | H37: =D37*F37 -> 0 | I37: =D37*9350000 -> 0 | J37: =MIN(H37,I37) -> 0 | K37: =ROUNDDOWN(J37+J38,-3) -> 0
H38: =D38*F38 -> 0 | I38: =D38*9350000 -> 0 | J38: =MIN(H38,I38) -> 0
C39: HEPAフィルター付き空気清浄機 | H39: =D39*F39 -> 0 | I39: =IF(D39+D40>0,905000,0) -> 0 | J39: =MIN(H39+H40,I39) -> 0 | K39: =ROUNDDOWN(J39,-3) -> 0
H40: =D40*F40 -> 0
C41: 簡易ベッド | H41: =D41*F41 -> 0 | I41: =D41*51400 -> 0 | J41: =MIN(H41,I41) -> 0 | K41: =ROUNDDOWN(J41+J42,-3) -> 0
H42: =D42*F42 -> 0 | I42: =D42*51400 -> 0 | J42: =MIN(H42,I42) -> 0
J43: =SUM(J35:J42) -> 0 | K43: =SUM(K35:K42) -> 0
J44: 算定基準額 | K44: 交付決定済額
C51: 変更あり（減額）
C52: 変更なし
...

Sheet 実績報告書
B5: 様式第３号（第１７条関係）
O6: =入力シート!E9 -> 令和 年 月 日
B8: 鳥取県知事 平井 伸治 様
I11: 住 所 | J11: =IF(入力シート!E10="","",入力シート!E10)
H13: 申請者 | I13: 氏 名 | J13: =IF(入力シート!E11="","",入力シート!E11)
J14: =IF(入力シート!E12="","",入力シート!E12) | M14: =IF(入力シート!E13="","",入力シート!E13)
I15: （団体にあっては、名称及び代表者の氏名）
A17: 令和８年度鳥取県新興感染症対応力強化事業補助金実績報告書
C20: =入力シート!E15 -> 令和 年 月 日付 | G20: =入力シート!E16 -> 第２０２６００００００００号 | L20: による交付決定を受けた
B21: 事業の実績について、鳥取県補助金等交付規則第１７条第１項の規定により、下記の
B22: とおり報告します。
B25: 記
C27: 補助金等の名称 | F27: 令和８年度鳥取県新興感染症対応力強化事業補助金
C28: 交付決定 | F28: 算定基準額 | L28: 交付決定額
G29: 金 | H29: =入力シート!J31 -> 0 | K29: 円 | M29: 金 | N29: =入力シート!K31 -> 0 | R29: 円
C30: 実績 | G30: 金 | H30: =入力シート!J43 -> 0 | K30: 円 | M30: 金 | N30: =入力シート!K43 -> 0 | R30: 円
C31: 差引 | G31: 金 | H31: =H29-H30 -> 0 | K31: 円 | M31: 金 | N31: =N29-N30 -> 0 | R31: 円
C32: 添付書類 | F32: １ 事業報告書 ２ 支出を証明する領収書等

Sheet 様式第1-2号
A1: 様式第１－２号（第８条関係）
B3: 鳥取県新興感染症対応力強化事業補助金実績報告書 | N3: 補足説明
I5: （施設名） | N5: ←施設名を入力してください。
L6: （単位：円）
B7: 区分 | C7: 総事業費 | D7: 寄付金その他の収入額 | E7: 差引額 （（Ａ）－（Ｂ）） | F7: 補助対象経費 実支出額 | G7: 基準額 | H7: 選定額 | I7: 補助所要額 | J7: 受入済額 | K7: 差引過不足額 （Ｇ）-（Ｈ） | L7: 備考
C8: （Ａ） | D8: （Ｂ） | E8: （Ｃ） | F8: （Ｄ） | G8: （Ｅ） | H8: （Ｆ） | I8: （Ｇ） | J8: （Ｈ） | K8: =(I)
B9: 協定締結医療機関 施設整備事業 | C9: 円 | D9: 円 | E9: 円 | F9: 円 | G9: 円 | H9: 円 | I9: 円 | J9: 円 | K9: 円
L10: 内訳は別紙のとおり
B11: 協定締結医療機関 設備整備事業 | C11: ='様式第1-2号別紙'!I19 -> 0 | D11: =SUM(入力シート!G35:G42) -> 0 | E11: =C11-D11 -> 0 | F11: ='様式第1-2号別紙'!I19 -> 0 | G11: ='様式第1-2号別紙'!E19 -> 0 | H11: ='様式第1-2号別紙'!J19 -> 0 | I11: ='様式第1-2号別紙'!K19 -> 0 | J11: =IF(入力シート!E18=入力シート!C54,入力シート!K31,0) -> 0 | K11: =I11-J11 -> 0
B12: 合 計 | C12: =SUM(C10:C11) -> 0 | D12: =SUM(D10:D11) -> 0 | E12: =SUM(E10:E11) -> 0 | F12: =SUM(F10:F11) -> 0 | G12: =SUM(G10:G11) -> 0 | H12: =SUM(H10:H11) -> 0 | I12: =SUM(I10:I11) -> 0 | J12: =SUM(J10:J11) -> 0 | K12: =SUM(K10:K11) -> 0
B14: ※本実績報告書には、別紙に定める個別の実績報告書を添付すること。
B15: （注１）Ａ欄には、対象経費以外も含めた総事業費を記入すること。
B16: （注２）Ｂ欄には、鳥取県新興感染症対応力強化事業補助金以外の収入がある場合にその金額を記入すること。
B17: （注３）Ⅾ欄には、Ａ欄のうち対象経費に係る実支出額を記入することとし、個別の実績報告書の金額（イ）欄の計と一致させること。
B18: （注４）Ｆ欄には、個別の実績報告書の選定額の計を記入すること。
B19: （注５）Ｇ欄には、個別の実績報告書の補助所要額の計を記入すること。
B21: 【他の補助金の活用の有無について】 | N21: 【他の補助金の活用の有無について】 他の補助金を併用しない場合、表①～④の入力は不要です。
B22: 「有」、「無」のいずれかに○をし、「有」の場合は、下欄についても記入すること。
B23: 【 有 ・ 無 】
B25: ①活用する補助金名
B26: ②事業内容
B27: ③当該補助金の所管部署（団体）名
B28: ④所管部署（団体）連絡先 | D28: （ ） －
B30: 【消費税の取り扱い等】
B31: 次の（１）（２）について、当てはまるものに○をすること。 | N31: 【消費税の取り扱い等】 セルを選択し、当てはまるものの（ ）内に○を入力してください。 （２）は、事業実施時期の決算期における消費税の取り扱いを指します。現時点で不明な場合は「仕入控除税額が明らかでない一般課税事業者」を選択してください。
B32: （１） 申請額について
B33: 消費税及び地方消費税を | D33: （ ）含む | E33: （ ） 含まない
B35: （２）消費税の取り扱い
B36: （ ）一般課税事業者 （ ）簡易課税事業者 （ ）免税事業者 （ ）地方公共団体 （ ）特定収入割合が５％を超えている公益法人等 （ ）仕入控除税額が明らかでない一般課税事業者

Sheet 様式第1-2号別紙
A2: 様式第１－２号 別紙（第８条関係）
B4: 設備整備事業実績報告書 | M4: 補足説明
I6: （施設名） | M6: ←施設名を入力してください。
B7: （２）協定締結医療機関設備整備事業 | K7: （単位：円）
B8: 品目 | C8: 基準額（Ｅ） | F8: 対象経費支出予定（実支出）額（Ｄ） | J8: 選定額（Ｆ） （ア）か（イ）のいずれか低い額 | K8: 補助所要額（G） 選定額を千円未満切捨て
C9: 数量 | D9: 単価 | E9: 金額 （ア） | F9: 規格 （型式） | G9: 数量 | H9: 単価 | I9: 金額 （イ）
D10: 円 | E10: 円 | H10: 円 | I10: 円 | J10: 円 | K10: 円
B11: 簡易陰圧装置 | C11: =入力シート!D35+入力シート!D36 -> 0 | D11: 4,320,000 (１病床当たり) | E11: =C11*4320000 -> 0 | F11: =IF(入力シート!E35="","",入力シート!E35) | G11: =入力シート!D35 -> 0 | H11: =入力シート!F35 -> 0 | I11: =G11*H11 -> 0 | J11: =MIN(4320000*G11,I11) -> 0 | K11: =ROUNDDOWN(J11+J12,-3) -> 0
F12: =IF(入力シート!E36="","",入力シート!E36) | G12: =入力シート!D36 -> 0 | H12: =入力シート!F36 -> 0 | I12: =G12*H12 -> 0 | J12: =MIN(4320000*G12,I12) -> 0
B13: 検査機器（PCR検査装置、等温遺伝子増幅装置） | C13: =入力シート!D37+入力シート!D38 -> 0 | D13: 9,350,000 (１台当たり) | E13: =C13*9350000 -> 0 | F13: =IF(入力シート!E37="","",入力シート!E37) | G13: =入力シート!D25 -> 0 | H13: =入力シート!F37 -> 0 | I13: =G13*H13 -> 0 | J13: =MIN(9350000*G13,I13) -> 0 | K13: =ROUNDDOWN(J13+J14,-3) -> 0
F14: =IF(入力シート!E38="","",入力シート!E38) | G14: =入力シート!D26 -> 0 | H14: =入力シート!F38 -> 0 | I14: =G14*H14 -> 0 | J14: =MIN(9350000*G14,I14) -> 0
B15: HEPAフィルター付き空気清浄機 | C15: =入力シート!D39+入力シート!D40 -> 0 | D15: 905,000 (１施設当たり) | E15: =IF(C15>0,905000,0) -> 0 | F15: =IF(入力シート!E39="","",入力シート!E39) | G15: =入力シート!D27 -> 0 | H15: =入力シート!F39 -> 0 | I15: =G15*H15 -> 0 | J15: =MIN(E15,I15+I16) -> 0 | K15: =ROUNDDOWN(J15,-3) -> 0
F16: =IF(入力シート!E40="","",入力シート!E40) | G16: =入力シート!D28 -> 0 | H16: =入力シート!F40 -> 0 | I16: =G16*H16 -> 0
B17: 簡易ベッド | C17: =入力シート!D41+入力シート!D42 -> 0 | D17: 51,400 (１台当たり) | E17: =C17*51400 -> 0 | F17: =IF(入力シート!E41="","",入力シート!E41) | G17: =入力シート!D29 -> 0 | H17: =入力シート!F41 -> 0 | I17: =G17*H17 -> 0 | J17: =MIN(51400*G17,I17) -> 0 | K17: =ROUNDDOWN(J17+J18,-3) -> 0
F18: =IF(入力シート!E42="","",入力シート!E42) | G18: =入力シート!D30 -> 0 | H18: =入力シート!F42 -> 0 | I18: =G18*H18 -> 0 | J18: =MIN(51400*G18,I18) -> 0
B19: 合 計 | C19: - | D19: - | E19: =SUM(E11:E17) -> 0 | F19: - | G19: - | H19: - | I19: =SUM(I11:I18) -> 0 | J19: =SUM(J11:J18) -> 0 | K19: =SUM(K11:K18) -> 0
B21: ※Ｄ欄～Ｇ欄の合計額は、様式第１－２号の各欄における金額と一致させること。

Sheet 収支決算書
B1: 様式第２号（第８条関係）
C3: 鳥取県新興感染症対応力強化事業収支決算書
B5: １ 収入の部 | G5: （単位：円）
C6: 区 分 | D6: 予算額 （交付決定額） | E6: 決算額 | F6: 差引増減 | G6: 備考
C7: 県補助金 | D7: =入力シート!K31 -> 0 | E7: ='様式第1-2号別紙'!K19 -> 0 | F7: =E7-D7 -> 0
C8: 自己財源 | D8: =SUM(入力シート!H35:H42)-入力シート!K43 -> 0 | E8: ='様式第1-2号別紙'!I19-'様式第1-2号別紙'!K19 -> 0 | F8: =E8-D8 -> 0
C9: その他
C10: 合 計 | D10: =SUM(D7:D9) -> 0 | E10: =SUM(E7:E9) -> 0 | F10: =E10-D10 -> 0 | I10: ←（D）対象経費支出予定額と一致
C11: ※ 決算時（実績報告時）の予算額欄は交付決定額を記載すること。
C12: ※ その他に金額を記載する場合、備考欄にその内容を記載すること。
B14: ２ 支出の部 | G14: （単位：円）
C15: 区分 | D15: 予算額 （交付決定額） | E15: 決算額 | F15: 差引増減 | G15: 備考
C16: 簡易陰圧装置 | D16: =入力シート!J23+入力シート!J24 -> 0 | E16: ='様式第1-2号別紙'!J11+'様式第1-2号別紙'!J12 -> 0 | F16: =E16-D16 -> 0
C17: 検査機器 | D17: =入力シート!J25+入力シート!J26 -> 0 | E17: ='様式第1-2号別紙'!J13+'様式第1-2号別紙'!J14 -> 0 | F17: =E17-D17 -> 0
C18: HEPAフィルター付き空気清浄機 | D18: =入力シート!J27 -> 0 | E18: ='様式第1-2号別紙'!J15+'様式第1-2号別紙'!J16 -> 0 | F18: =E18-D18 -> 0
C19: 簡易ベッド | D19: =入力シート!J29+入力シート!J30 -> 0 | E19: ='様式第1-2号別紙'!J17+'様式第1-2号別紙'!J18 -> 0 | F19: =E19-D19 -> 0
C21: その他
C22: 合 計 | D22: =SUM(D16:D21) -> 0 | E22: =SUM(E16:E21) -> 0 | F22: =E22-D22 -> 0 | I22: ←（D）対象経費支出予定額と一致
C23: ※ 決算時（実績報告時）の予算額欄は交付決定額を記載すること。
C24: ※ その他に金額を記載する場合、備考欄にその内容を記載すること。
